BEGIN:VCALENDAR
VERSION:2.0
PRODID:-// - ECPv6.15.17.1//NONSGML v1.0//EN
CALSCALE:GREGORIAN
METHOD:PUBLISH
X-ORIGINAL-URL:https://city.gr
X-WR-CALDESC:Events for 
REFRESH-INTERVAL;VALUE=DURATION:PT1H
X-Robots-Tag:noindex
X-PUBLISHED-TTL:PT1H
BEGIN:VTIMEZONE
TZID:Europe/Athens
BEGIN:DAYLIGHT
TZOFFSETFROM:+0200
TZOFFSETTO:+0300
TZNAME:EEST
DTSTART:20250330T010000
END:DAYLIGHT
BEGIN:STANDARD
TZOFFSETFROM:+0300
TZOFFSETTO:+0200
TZNAME:EET
DTSTART:20251026T010000
END:STANDARD
BEGIN:DAYLIGHT
TZOFFSETFROM:+0200
TZOFFSETTO:+0300
TZNAME:EEST
DTSTART:20260329T010000
END:DAYLIGHT
BEGIN:STANDARD
TZOFFSETFROM:+0300
TZOFFSETTO:+0200
TZNAME:EET
DTSTART:20261025T010000
END:STANDARD
BEGIN:DAYLIGHT
TZOFFSETFROM:+0200
TZOFFSETTO:+0300
TZNAME:EEST
DTSTART:20270328T010000
END:DAYLIGHT
BEGIN:STANDARD
TZOFFSETFROM:+0300
TZOFFSETTO:+0200
TZNAME:EET
DTSTART:20271031T010000
END:STANDARD
END:VTIMEZONE
BEGIN:VEVENT
DTSTART;TZID=Europe/Athens:20260228T210000
DTEND;TZID=Europe/Athens:20260228T233000
DTSTAMP:20260421T190424
CREATED:20260129T123244Z
LAST-MODIFIED:20260305T141947Z
UID:41659-1772312400-1772321400@city.gr
SUMMARY:ΠΡΟΒΑ ΠΑΡΑΣΤΑΣΗΣ
DESCRIPTION:
URL:https://city.gr/event/%cf%80%cf%81%ce%bf%ce%b2%ce%b1-%cf%80%ce%b1%cf%81%ce%b1%cf%83%cf%84%ce%b1%cf%83%ce%b7%cf%82-2/
LOCATION:Πολύκεντρο Συνεδριακό Κέντρο\, Ψαρών\, Αίγιο\, Αίγιο\, 25100\, Greece
CATEGORIES:Δ. Αιγιαλείας Πρόβες
END:VEVENT
BEGIN:VEVENT
DTSTART;TZID=Europe/Athens:20260226T210000
DTEND;TZID=Europe/Athens:20260226T233000
DTSTAMP:20260421T190424
CREATED:20260129T123347Z
LAST-MODIFIED:20260129T123347Z
UID:41663-1772139600-1772148600@city.gr
SUMMARY:ΠΡΟΒΑ ΠΑΡΑΣΤΑΣΗΣ
DESCRIPTION:
URL:https://city.gr/event/%cf%80%cf%81%ce%bf%ce%b2%ce%b1-%cf%80%ce%b1%cf%81%ce%b1%cf%83%cf%84%ce%b1%cf%83%ce%b7%cf%82-4/
LOCATION:Πολύκεντρο Συνεδριακό Κέντρο\, Ψαρών\, Αίγιο\, Αίγιο\, 25100\, Greece
CATEGORIES:Δ. Αιγιαλείας Πρόβες
END:VEVENT
BEGIN:VEVENT
DTSTART;TZID=Europe/Athens:20260225T210000
DTEND;TZID=Europe/Athens:20260225T233000
DTSTAMP:20260421T190424
CREATED:20260129T123511Z
LAST-MODIFIED:20260129T123511Z
UID:41666-1772053200-1772062200@city.gr
SUMMARY:ΠΡΟΒΑ ΠΑΡΑΣΤΑΣΗΣ
DESCRIPTION:
URL:https://city.gr/event/%cf%80%cf%81%ce%bf%ce%b2%ce%b1-%cf%80%ce%b1%cf%81%ce%b1%cf%83%cf%84%ce%b1%cf%83%ce%b7%cf%82-5/
LOCATION:Πολύκεντρο Συνεδριακό Κέντρο\, Ψαρών\, Αίγιο\, Αίγιο\, 25100\, Greece
CATEGORIES:Δ. Αιγιαλείας Πρόβες
END:VEVENT
BEGIN:VEVENT
DTSTART;TZID=Europe/Athens:20260224T210000
DTEND;TZID=Europe/Athens:20260224T233000
DTSTAMP:20260421T190424
CREATED:20260129T123135Z
LAST-MODIFIED:20260129T123135Z
UID:41656-1771966800-1771975800@city.gr
SUMMARY:ΠΡΟΒΑ ΠΑΡΑΣΤΑΣΗΣ
DESCRIPTION:
URL:https://city.gr/event/%cf%80%cf%81%ce%bf%ce%b2%ce%b1-%cf%80%ce%b1%cf%81%ce%b1%cf%83%cf%84%ce%b1%cf%83%ce%b7%cf%82/
LOCATION:Πολύκεντρο Συνεδριακό Κέντρο\, Ψαρών\, Αίγιο\, Αίγιο\, 25100\, Greece
CATEGORIES:Δ. Αιγιαλείας Πρόβες
END:VEVENT
BEGIN:VEVENT
DTSTART;TZID=Europe/Athens:20260222T190000
DTEND;TZID=Europe/Athens:20260222T223000
DTSTAMP:20260421T190424
CREATED:20260129T100839Z
LAST-MODIFIED:20260129T100839Z
UID:41585-1771786800-1771799400@city.gr
SUMMARY:ΘΕΑΤΡΙΚΗ ΠΑΡΑΣΤΑΣΗ
DESCRIPTION:
URL:https://city.gr/event/%ce%b8%ce%b5%ce%b1%cf%84%cf%81%ce%b9%ce%ba%ce%b7-%cf%80%ce%b1%cf%81%ce%b1%cf%83%cf%84%ce%b1%cf%83%ce%b7/
LOCATION:Αλέκος Μέγαρης\, Ζωοδόχου Πηγής 3\, Αίγιο\, 25100
CATEGORIES:Δ. Αιγιαλείας Πρόβες
END:VEVENT
BEGIN:VEVENT
DTSTART;TZID=Europe/Athens:20260218T190000
DTEND;TZID=Europe/Athens:20260218T230000
DTSTAMP:20260421T190424
CREATED:20260217T081145Z
LAST-MODIFIED:20260217T081145Z
UID:42652-1771441200-1771455600@city.gr
SUMMARY:ΣΥΓΧΡΟΝΕΣ ΕΞΑΡΤΗΣΕΙΣ ΚΑΙ ΚΟΙΝΩΝΙΚΕΣ ΠΡΟΚΛΗΣΕΙΣ\, [ 18/2/26\, 19:00 - Πολύκεντρο Συνεδριακό Κέντρο ]
DESCRIPTION:
URL:https://city.gr/event/%cf%83%cf%85%ce%b3%cf%87%cf%81%ce%bf%ce%bd%ce%b5%cf%82-%ce%b5%ce%be%ce%b1%cf%81%cf%84%ce%b7%cf%83%ce%b5%ce%b9%cf%82-%ce%ba%ce%b1%ce%b9-%ce%ba%ce%bf%ce%b9%ce%bd%cf%89%ce%bd%ce%b9%ce%ba%ce%b5%cf%82/
LOCATION:Πολύκεντρο Συνεδριακό Κέντρο\, Ψαρών\, Αίγιο\, Αίγιο\, 25100\, Greece
CATEGORIES:Δ. Αιγιαλείας Πρόβες
END:VEVENT
BEGIN:VEVENT
DTSTART;TZID=Europe/Athens:20260216T210000
DTEND;TZID=Europe/Athens:20260216T233000
DTSTAMP:20260421T190424
CREATED:20260129T122757Z
LAST-MODIFIED:20260129T122757Z
UID:41651-1771275600-1771284600@city.gr
SUMMARY:ΘΕΑΤΡΙΚΗ ΠΑΡΑΣΤΑΣΗ /ΑΠΟΦΟΙΤΟΙ
DESCRIPTION:
URL:https://city.gr/event/%ce%b8%ce%b5%ce%b1%cf%84%cf%81%ce%b9%ce%ba%ce%b7-%cf%80%ce%b1%cf%81%ce%b1%cf%83%cf%84%ce%b1%cf%83%ce%b7-%ce%b1%cf%80%ce%bf%cf%86%ce%bf%ce%b9%cf%84%ce%bf%ce%b9-8/
LOCATION:Πολύκεντρο Συνεδριακό Κέντρο\, Ψαρών\, Αίγιο\, Αίγιο\, 25100\, Greece
CATEGORIES:Δ. Αιγιαλείας Πρόβες
END:VEVENT
BEGIN:VEVENT
DTSTART;TZID=Europe/Athens:20260215T210000
DTEND;TZID=Europe/Athens:20260215T233000
DTSTAMP:20260421T190424
CREATED:20260129T122654Z
LAST-MODIFIED:20260129T122654Z
UID:41649-1771189200-1771198200@city.gr
SUMMARY:ΘΕΑΤΡΙΚΗ ΠΑΡΑΣΤΑΣΗ /ΑΠΟΦΟΙΤΟΙ
DESCRIPTION:
URL:https://city.gr/event/%ce%b8%ce%b5%ce%b1%cf%84%cf%81%ce%b9%ce%ba%ce%b7-%cf%80%ce%b1%cf%81%ce%b1%cf%83%cf%84%ce%b1%cf%83%ce%b7-%ce%b1%cf%80%ce%bf%cf%86%ce%bf%ce%b9%cf%84%ce%bf%ce%b9-7/
LOCATION:Πολύκεντρο Συνεδριακό Κέντρο\, Ψαρών\, Αίγιο\, Αίγιο\, 25100\, Greece
CATEGORIES:Δ. Αιγιαλείας Πρόβες
END:VEVENT
BEGIN:VEVENT
DTSTART;TZID=Europe/Athens:20260214T210000
DTEND;TZID=Europe/Athens:20260214T233000
DTSTAMP:20260421T190424
CREATED:20260129T122550Z
LAST-MODIFIED:20260129T122550Z
UID:41647-1771102800-1771111800@city.gr
SUMMARY:ΘΕΑΤΡΙΚΗ ΠΑΡΑΣΤΑΣΗ /ΑΠΟΦΟΙΤΟΙ
DESCRIPTION:
URL:https://city.gr/event/%ce%b8%ce%b5%ce%b1%cf%84%cf%81%ce%b9%ce%ba%ce%b7-%cf%80%ce%b1%cf%81%ce%b1%cf%83%cf%84%ce%b1%cf%83%ce%b7-%ce%b1%cf%80%ce%bf%cf%86%ce%bf%ce%b9%cf%84%ce%bf%ce%b9-6/
LOCATION:Πολύκεντρο Συνεδριακό Κέντρο\, Ψαρών\, Αίγιο\, Αίγιο\, 25100\, Greece
CATEGORIES:Δ. Αιγιαλείας Πρόβες
END:VEVENT
BEGIN:VEVENT
DTSTART;TZID=Europe/Athens:20260213T210000
DTEND;TZID=Europe/Athens:20260213T233000
DTSTAMP:20260421T190424
CREATED:20260129T122500Z
LAST-MODIFIED:20260129T122500Z
UID:41645-1771016400-1771025400@city.gr
SUMMARY:ΘΕΑΤΡΙΚΗ ΠΑΡΑΣΤΑΣΗ /ΑΠΟΦΟΙΤΟΙ
DESCRIPTION:
URL:https://city.gr/event/%ce%b8%ce%b5%ce%b1%cf%84%cf%81%ce%b9%ce%ba%ce%b7-%cf%80%ce%b1%cf%81%ce%b1%cf%83%cf%84%ce%b1%cf%83%ce%b7-%ce%b1%cf%80%ce%bf%cf%86%ce%bf%ce%b9%cf%84%ce%bf%ce%b9-5/
LOCATION:Πολύκεντρο Συνεδριακό Κέντρο\, Ψαρών\, Αίγιο\, Αίγιο\, 25100\, Greece
CATEGORIES:Δ. Αιγιαλείας Πρόβες
END:VEVENT
BEGIN:VEVENT
DTSTART;TZID=Europe/Athens:20260209T210000
DTEND;TZID=Europe/Athens:20260209T233000
DTSTAMP:20260421T190424
CREATED:20260129T122339Z
LAST-MODIFIED:20260129T122339Z
UID:41643-1770670800-1770679800@city.gr
SUMMARY:ΘΕΑΤΡΙΚΗ ΠΑΡΑΣΤΑΣΗ /ΑΠΟΦΟΙΤΟΙ
DESCRIPTION:
URL:https://city.gr/event/%ce%b8%ce%b5%ce%b1%cf%84%cf%81%ce%b9%ce%ba%ce%b7-%cf%80%ce%b1%cf%81%ce%b1%cf%83%cf%84%ce%b1%cf%83%ce%b7-%ce%b1%cf%80%ce%bf%cf%86%ce%bf%ce%b9%cf%84%ce%bf%ce%b9-4/
LOCATION:Πολύκεντρο Συνεδριακό Κέντρο\, Ψαρών\, Αίγιο\, Αίγιο\, 25100\, Greece
CATEGORIES:Δ. Αιγιαλείας Πρόβες
END:VEVENT
BEGIN:VEVENT
DTSTART;TZID=Europe/Athens:20260209T180000
DTEND;TZID=Europe/Athens:20260209T220000
DTSTAMP:20260421T190424
CREATED:20260129T115622Z
LAST-MODIFIED:20260129T115622Z
UID:41618-1770660000-1770674400@city.gr
SUMMARY:ΧΟΡΕΥΤΙΚΟΣ ΣΥΛΛΟΓΟΣ ΧΟΡΟΣΤΑΣΙ ΠΑΡΑΣΤΑΣΗ
DESCRIPTION:
URL:https://city.gr/event/%cf%87%ce%bf%cf%81%ce%b5%cf%85%cf%84%ce%b9%ce%ba%ce%bf%cf%82-%cf%83%cf%85%ce%bb%ce%bb%ce%bf%ce%b3%ce%bf%cf%82-%cf%87%ce%bf%cf%81%ce%bf%cf%83%cf%84%ce%b1%cf%83%ce%b9-%cf%80%ce%b1%cf%81%ce%b1%cf%83/
LOCATION:Απόλλωνας\, Φανελλή 2\, Αίγιο\, 25100\, Greece
CATEGORIES:Δ. Αιγιαλείας Πρόβες
END:VEVENT
BEGIN:VEVENT
DTSTART;TZID=Europe/Athens:20260209T090000
DTEND;TZID=Europe/Athens:20260209T140000
DTSTAMP:20260421T190424
CREATED:20260129T115344Z
LAST-MODIFIED:20260129T115344Z
UID:41607-1770627600-1770645600@city.gr
SUMMARY:ΠΑΙΔΙΚΟ ΘΕΑΤΡΟ
DESCRIPTION:
URL:https://city.gr/event/%cf%80%ce%b1%ce%b9%ce%b4%ce%b9%ce%ba%ce%bf-%ce%b8%ce%b5%ce%b1%cf%84%cf%81%ce%bf/
LOCATION:Απόλλωνας\, Φανελλή 2\, Αίγιο\, 25100\, Greece
CATEGORIES:Δ. Αιγιαλείας Πρόβες
END:VEVENT
BEGIN:VEVENT
DTSTART;TZID=Europe/Athens:20260208T210000
DTEND;TZID=Europe/Athens:20260208T233000
DTSTAMP:20260421T190424
CREATED:20260129T122250Z
LAST-MODIFIED:20260129T122250Z
UID:41641-1770584400-1770593400@city.gr
SUMMARY:ΘΕΑΤΡΙΚΗ ΠΑΡΑΣΤΑΣΗ /ΑΠΟΦΟΙΤΟΙ
DESCRIPTION:
URL:https://city.gr/event/%ce%b8%ce%b5%ce%b1%cf%84%cf%81%ce%b9%ce%ba%ce%b7-%cf%80%ce%b1%cf%81%ce%b1%cf%83%cf%84%ce%b1%cf%83%ce%b7-%ce%b1%cf%80%ce%bf%cf%86%ce%bf%ce%b9%cf%84%ce%bf%ce%b9-3/
LOCATION:Πολύκεντρο Συνεδριακό Κέντρο\, Ψαρών\, Αίγιο\, Αίγιο\, 25100\, Greece
CATEGORIES:Δ. Αιγιαλείας Πρόβες
END:VEVENT
BEGIN:VEVENT
DTSTART;TZID=Europe/Athens:20260208T110000
DTEND;TZID=Europe/Athens:20260208T140000
DTSTAMP:20260421T190424
CREATED:20260129T114836Z
LAST-MODIFIED:20260129T114836Z
UID:41604-1770548400-1770559200@city.gr
SUMMARY:ΧΟΡΕΥΤΙΚΟΣ ΟΜΙΛΟΣ
DESCRIPTION:
URL:https://city.gr/event/%cf%87%ce%bf%cf%81%ce%b5%cf%85%cf%84%ce%b9%ce%ba%ce%bf%cf%82-%ce%bf%ce%bc%ce%b9%ce%bb%ce%bf%cf%82-2/
LOCATION:Απόλλωνας\, Φανελλή 2\, Αίγιο\, 25100\, Greece
CATEGORIES:Δ. Αιγιαλείας Πρόβες
END:VEVENT
BEGIN:VEVENT
DTSTART;TZID=Europe/Athens:20260208T000000
DTEND;TZID=Europe/Athens:20260208T170000
DTSTAMP:20260421T190424
CREATED:20260129T100637Z
LAST-MODIFIED:20260129T100904Z
UID:41583-1770508800-1770570000@city.gr
SUMMARY:ΕΚΔΗΛΩΣΗ ΓΙΑ ΤΑ Κ.Α.Π.Η.
DESCRIPTION:
URL:https://city.gr/event/%ce%b5%ce%ba%ce%b4%ce%b7%ce%bb%cf%89%cf%83%ce%b7-%ce%b3%ce%b9%ce%b1-%cf%84%ce%b1-%ce%ba-%ce%b1-%cf%80-%ce%b7-2/
LOCATION:Αλέκος Μέγαρης\, Ζωοδόχου Πηγής 3\, Αίγιο\, 25100
CATEGORIES:Δ. Αιγιαλείας Πρόβες
END:VEVENT
BEGIN:VEVENT
DTSTART;TZID=Europe/Athens:20260207T210000
DTEND;TZID=Europe/Athens:20260207T233000
DTSTAMP:20260421T190424
CREATED:20260129T122219Z
LAST-MODIFIED:20260129T122219Z
UID:41639-1770498000-1770507000@city.gr
SUMMARY:ΘΕΑΤΡΙΚΗ ΠΑΡΑΣΤΑΣΗ /ΑΠΟΦΟΙΤΟΙ
DESCRIPTION:
URL:https://city.gr/event/%ce%b8%ce%b5%ce%b1%cf%84%cf%81%ce%b9%ce%ba%ce%b7-%cf%80%ce%b1%cf%81%ce%b1%cf%83%cf%84%ce%b1%cf%83%ce%b7-%ce%b1%cf%80%ce%bf%cf%86%ce%bf%ce%b9%cf%84%ce%bf%ce%b9-2/
LOCATION:Πολύκεντρο Συνεδριακό Κέντρο\, Ψαρών\, Αίγιο\, Αίγιο\, 25100\, Greece
CATEGORIES:Δ. Αιγιαλείας Πρόβες
END:VEVENT
BEGIN:VEVENT
DTSTART;TZID=Europe/Athens:20260207T110000
DTEND;TZID=Europe/Athens:20260207T140000
DTSTAMP:20260421T190424
CREATED:20260129T114726Z
LAST-MODIFIED:20260129T121710Z
UID:41602-1770462000-1770472800@city.gr
SUMMARY:ΧΟΡΕΥΤΙΚΟΣ ΟΜΙΛΟΣ - ΠΡΟΒΑ
DESCRIPTION:
URL:https://city.gr/event/%cf%87%ce%bf%cf%81%ce%b5%cf%85%cf%84%ce%b9%ce%ba%ce%bf%cf%82-%ce%bf%ce%bc%ce%b9%ce%bb%ce%bf%cf%82-%cf%80%cf%81%ce%bf%ce%b2%ce%b1/
LOCATION:Απόλλωνας\, Φανελλή 2\, Αίγιο\, 25100\, Greece
CATEGORIES:Δ. Αιγιαλείας Πρόβες
END:VEVENT
BEGIN:VEVENT
DTSTART;TZID=Europe/Athens:20260207T000000
DTEND;TZID=Europe/Athens:20260207T170000
DTSTAMP:20260421T190424
CREATED:20260129T100604Z
LAST-MODIFIED:20260129T100921Z
UID:41581-1770422400-1770483600@city.gr
SUMMARY:ΕΚΔΗΛΩΣΗ ΓΙΑ ΤΑ Κ.Α.Π.Η.
DESCRIPTION:
URL:https://city.gr/event/%ce%b5%ce%ba%ce%b4%ce%b7%ce%bb%cf%89%cf%83%ce%b7-%ce%b3%ce%b9%ce%b1-%cf%84%ce%b1-%ce%ba-%ce%b1-%cf%80-%ce%b7/
LOCATION:Αλέκος Μέγαρης\, Ζωοδόχου Πηγής 3\, Αίγιο\, 25100
CATEGORIES:Δ. Αιγιαλείας Πρόβες
END:VEVENT
BEGIN:VEVENT
DTSTART;TZID=Europe/Athens:20260206T210000
DTEND;TZID=Europe/Athens:20260206T233000
DTSTAMP:20260421T190424
CREATED:20260129T122118Z
LAST-MODIFIED:20260129T122118Z
UID:41637-1770411600-1770420600@city.gr
SUMMARY:ΘΕΑΤΡΙΚΗ ΠΑΡΑΣΤΑΣΗ /ΑΠΟΦΟΙΤΟΙ
DESCRIPTION:
URL:https://city.gr/event/%ce%b8%ce%b5%ce%b1%cf%84%cf%81%ce%b9%ce%ba%ce%b7-%cf%80%ce%b1%cf%81%ce%b1%cf%83%cf%84%ce%b1%cf%83%ce%b7-%ce%b1%cf%80%ce%bf%cf%86%ce%bf%ce%b9%cf%84%ce%bf%ce%b9/
LOCATION:Πολύκεντρο Συνεδριακό Κέντρο\, Ψαρών\, Αίγιο\, Αίγιο\, 25100\, Greece
CATEGORIES:Δ. Αιγιαλείας Πρόβες
END:VEVENT
BEGIN:VEVENT
DTSTART;TZID=Europe/Athens:20260205T080000
DTEND;TZID=Europe/Athens:20260205T140000
DTSTAMP:20260421T190424
CREATED:20260129T121621Z
LAST-MODIFIED:20260129T121621Z
UID:41634-1770278400-1770300000@city.gr
SUMMARY:ΠΡΟΒΑ
DESCRIPTION:
URL:https://city.gr/event/%cf%80%cf%81%ce%bf%ce%b2%ce%b1-5/
LOCATION:Πολύκεντρο Συνεδριακό Κέντρο\, Ψαρών\, Αίγιο\, Αίγιο\, 25100\, Greece
CATEGORIES:Δ. Αιγιαλείας Πρόβες
END:VEVENT
BEGIN:VEVENT
DTSTART;TZID=Europe/Athens:20260204T180000
DTEND;TZID=Europe/Athens:20260204T220000
DTSTAMP:20260421T190424
CREATED:20260129T100106Z
LAST-MODIFIED:20260129T100306Z
UID:41576-1770228000-1770242400@city.gr
SUMMARY:ΑΙΓΙΑΛΕΙΑ ΠΡΟΟΡΙΣΜΟΣ - ΣΠΗΛΙΟΠΟΥΛΟΣ
DESCRIPTION:
URL:https://city.gr/event/%ce%b1%ce%b9%ce%b3%ce%b9%ce%b1%ce%bb%ce%b5%ce%b9%ce%b1-%cf%80%cf%81%ce%bf%ce%bf%cf%81%ce%b9%cf%83%ce%bc%ce%bf%cf%82-%cf%83%cf%80%ce%b7%ce%bb%ce%b9%ce%bf%cf%80%ce%bf%cf%85%ce%bb%ce%bf%cf%82/
LOCATION:Αλέκος Μέγαρης\, Ζωοδόχου Πηγής 3\, Αίγιο\, 25100
CATEGORIES:Δ. Αιγιαλείας Πρόβες
END:VEVENT
BEGIN:VEVENT
DTSTART;TZID=Europe/Athens:20260204T080000
DTEND;TZID=Europe/Athens:20260204T140000
DTSTAMP:20260421T190424
CREATED:20260129T121555Z
LAST-MODIFIED:20260129T121555Z
UID:41632-1770192000-1770213600@city.gr
SUMMARY:ΠΡΟΒΑ
DESCRIPTION:
URL:https://city.gr/event/%cf%80%cf%81%ce%bf%ce%b2%ce%b1-4/
LOCATION:Πολύκεντρο Συνεδριακό Κέντρο\, Ψαρών\, Αίγιο\, Αίγιο\, 25100\, Greece
CATEGORIES:Δ. Αιγιαλείας Πρόβες
END:VEVENT
BEGIN:VEVENT
DTSTART;TZID=Europe/Athens:20260203T080000
DTEND;TZID=Europe/Athens:20260203T140000
DTSTAMP:20260421T190424
CREATED:20260129T121509Z
LAST-MODIFIED:20260129T121509Z
UID:41629-1770105600-1770127200@city.gr
SUMMARY:ΠΡΟΒΑ
DESCRIPTION:
URL:https://city.gr/event/%cf%80%cf%81%ce%bf%ce%b2%ce%b1-3/
LOCATION:Πολύκεντρο Συνεδριακό Κέντρο\, Ψαρών\, Αίγιο\, Αίγιο\, 25100\, Greece
CATEGORIES:Δ. Αιγιαλείας Πρόβες
END:VEVENT
BEGIN:VEVENT
DTSTART;TZID=Europe/Athens:20260202T080000
DTEND;TZID=Europe/Athens:20260202T140000
DTSTAMP:20260421T190424
CREATED:20260129T121431Z
LAST-MODIFIED:20260129T121431Z
UID:41627-1770019200-1770040800@city.gr
SUMMARY:ΠΡΟΒΑ
DESCRIPTION:
URL:https://city.gr/event/%cf%80%cf%81%ce%bf%ce%b2%ce%b1-2/
LOCATION:Πολύκεντρο Συνεδριακό Κέντρο\, Ψαρών\, Αίγιο\, Αίγιο\, 25100\, Greece
CATEGORIES:Δ. Αιγιαλείας Πρόβες
END:VEVENT
BEGIN:VEVENT
DTSTART;TZID=Europe/Athens:20260201T190000
DTEND;TZID=Europe/Athens:20260201T220000
DTSTAMP:20260421T190424
CREATED:20260129T071146Z
LAST-MODIFIED:20260129T101649Z
UID:41495-1769972400-1769983200@city.gr
SUMMARY:ΧΟΡΕΥΤΙΚΟΣ ΟΜΙΛΟΣ ΑΧΑΙΟΙ
DESCRIPTION:
URL:https://city.gr/event/%cf%87%ce%bf%cf%81%ce%b5%cf%85%cf%84%ce%b9%ce%ba%cf%8c%cf%82-%cf%8c%ce%bc%ce%b9%ce%bb%ce%bf%cf%82-%ce%b1%cf%87%ce%b1%ce%b9%ce%bf%ce%af/
LOCATION:Αλέκος Μέγαρης\, Ζωοδόχου Πηγής 3\, Αίγιο\, 25100
CATEGORIES:Δ. Αιγιαλείας Πρόβες
END:VEVENT
BEGIN:VEVENT
DTSTART;TZID=Europe/Athens:20260201T080000
DTEND;TZID=Europe/Athens:20260201T140000
DTSTAMP:20260421T190424
CREATED:20260129T121338Z
LAST-MODIFIED:20260129T121825Z
UID:41623-1769932800-1769954400@city.gr
SUMMARY:ΠΡΟΒΑ
DESCRIPTION:
URL:https://city.gr/event/%cf%80%cf%81%ce%bf%ce%b2%ce%b1/
LOCATION:Πολύκεντρο Συνεδριακό Κέντρο\, Ψαρών\, Αίγιο\, Αίγιο\, 25100\, Greece
CATEGORIES:Δ. Αιγιαλείας Πρόβες
END:VEVENT
END:VCALENDAR